BEGIN:VCALENDAR
VERSION:2.0
PRODID:-//Bradford Pub n Grub - ECPv6.15.20//NONSGML v1.0//EN
CALSCALE:GREGORIAN
METHOD:PUBLISH
X-ORIGINAL-URL:https://bradfordpubngrub.com
X-WR-CALDESC:Events for Bradford Pub n Grub
REFRESH-INTERVAL;VALUE=DURATION:PT1H
X-Robots-Tag:noindex
X-PUBLISHED-TTL:PT1H
BEGIN:VTIMEZONE
TZID:America/Chicago
BEGIN:DAYLIGHT
TZOFFSETFROM:-0600
TZOFFSETTO:-0500
TZNAME:CDT
DTSTART:20240310T080000
END:DAYLIGHT
BEGIN:STANDARD
TZOFFSETFROM:-0500
TZOFFSETTO:-0600
TZNAME:CST
DTSTART:20241103T070000
END:STANDARD
BEGIN:DAYLIGHT
TZOFFSETFROM:-0600
TZOFFSETTO:-0500
TZNAME:CDT
DTSTART:20250309T080000
END:DAYLIGHT
BEGIN:STANDARD
TZOFFSETFROM:-0500
TZOFFSETTO:-0600
TZNAME:CST
DTSTART:20251102T070000
END:STANDARD
BEGIN:DAYLIGHT
TZOFFSETFROM:-0600
TZOFFSETTO:-0500
TZNAME:CDT
DTSTART:20260308T080000
END:DAYLIGHT
BEGIN:STANDARD
TZOFFSETFROM:-0500
TZOFFSETTO:-0600
TZNAME:CST
DTSTART:20261101T070000
END:STANDARD
END:VTIMEZONE
BEGIN:VEVENT
DTSTART;TZID=America/Chicago:20250605T183000
DTEND;TZID=America/Chicago:20250605T183000
DTSTAMP:20260421T152511
CREATED:20241230T165802Z
LAST-MODIFIED:20241231T192202Z
UID:10000149-1749148200-1749148200@bradfordpubngrub.com
SUMMARY:Horse Racing
DESCRIPTION:
URL:https://bradfordpubngrub.com/event/horse-racing-january-30/2025-06-05/
LOCATION:Bradford Pub & Grub\, Cambridge\, MN\, 55008
CATEGORIES:Horse Racing
END:VEVENT
BEGIN:VEVENT
DTSTART;TZID=America/Chicago:20250612T183000
DTEND;TZID=America/Chicago:20250612T183000
DTSTAMP:20260421T152511
CREATED:20241230T165802Z
LAST-MODIFIED:20241231T192202Z
UID:10000150-1749753000-1749753000@bradfordpubngrub.com
SUMMARY:Horse Racing
DESCRIPTION:
URL:https://bradfordpubngrub.com/event/horse-racing-january-30/2025-06-12/
LOCATION:Bradford Pub & Grub\, Cambridge\, MN\, 55008
CATEGORIES:Horse Racing
END:VEVENT
BEGIN:VEVENT
DTSTART;TZID=America/Chicago:20250619T183000
DTEND;TZID=America/Chicago:20250619T183000
DTSTAMP:20260421T152511
CREATED:20241230T165802Z
LAST-MODIFIED:20241231T192202Z
UID:10000151-1750357800-1750357800@bradfordpubngrub.com
SUMMARY:Horse Racing
DESCRIPTION:
URL:https://bradfordpubngrub.com/event/horse-racing-january-30/2025-06-19/
LOCATION:Bradford Pub & Grub\, Cambridge\, MN\, 55008
CATEGORIES:Horse Racing
END:VEVENT
BEGIN:VEVENT
DTSTART;TZID=America/Chicago:20250626T183000
DTEND;TZID=America/Chicago:20250626T183000
DTSTAMP:20260421T152511
CREATED:20241230T165802Z
LAST-MODIFIED:20241231T192202Z
UID:10000152-1750962600-1750962600@bradfordpubngrub.com
SUMMARY:Horse Racing
DESCRIPTION:
URL:https://bradfordpubngrub.com/event/horse-racing-january-30/2025-06-26/
LOCATION:Bradford Pub & Grub\, Cambridge\, MN\, 55008
CATEGORIES:Horse Racing
END:VEVENT
END:VCALENDAR