BEGIN:VCALENDAR
VERSION:2.0
PRODID:-//Bradford Pub n Grub - ECPv6.15.20//NONSGML v1.0//EN
CALSCALE:GREGORIAN
METHOD:PUBLISH
X-ORIGINAL-URL:https://bradfordpubngrub.com
X-WR-CALDESC:Events for Bradford Pub n Grub
REFRESH-INTERVAL;VALUE=DURATION:PT1H
X-Robots-Tag:noindex
X-PUBLISHED-TTL:PT1H
BEGIN:VTIMEZONE
TZID:America/Chicago
BEGIN:DAYLIGHT
TZOFFSETFROM:-0600
TZOFFSETTO:-0500
TZNAME:CDT
DTSTART:20240310T080000
END:DAYLIGHT
BEGIN:STANDARD
TZOFFSETFROM:-0500
TZOFFSETTO:-0600
TZNAME:CST
DTSTART:20241103T070000
END:STANDARD
BEGIN:DAYLIGHT
TZOFFSETFROM:-0600
TZOFFSETTO:-0500
TZNAME:CDT
DTSTART:20250309T080000
END:DAYLIGHT
BEGIN:STANDARD
TZOFFSETFROM:-0500
TZOFFSETTO:-0600
TZNAME:CST
DTSTART:20251102T070000
END:STANDARD
BEGIN:DAYLIGHT
TZOFFSETFROM:-0600
TZOFFSETTO:-0500
TZNAME:CDT
DTSTART:20260308T080000
END:DAYLIGHT
BEGIN:STANDARD
TZOFFSETFROM:-0500
TZOFFSETTO:-0600
TZNAME:CST
DTSTART:20261101T070000
END:STANDARD
END:VTIMEZONE
BEGIN:VEVENT
DTSTART;TZID=America/Chicago:20251002T180000
DTEND;TZID=America/Chicago:20251002T180000
DTSTAMP:20260422T085458
CREATED:20260102T190306Z
LAST-MODIFIED:20260102T190306Z
UID:10000334-1759428000-1759428000@bradfordpubngrub.com
SUMMARY:Meat Raffle
DESCRIPTION:
URL:https://bradfordpubngrub.com/event/meat-raffle-7/2025-10-02/
LOCATION:Bradford Pub & Grub\, Cambridge\, MN\, 55008
CATEGORIES:Meat RAffle
END:VEVENT
BEGIN:VEVENT
DTSTART;TZID=America/Chicago:20251002T183000
DTEND;TZID=America/Chicago:20251002T183000
DTSTAMP:20260422T085458
CREATED:20250710T154725Z
LAST-MODIFIED:20251205T175310Z
UID:10000275-1759429800-1759429800@bradfordpubngrub.com
SUMMARY:Horse Racing
DESCRIPTION:
URL:https://bradfordpubngrub.com/event/horse-racing-7/2025-10-02/
LOCATION:Bradford Pub & Grub\, Cambridge\, MN\, 55008
CATEGORIES:Horse Racing
END:VEVENT
BEGIN:VEVENT
DTSTART;TZID=America/Chicago:20251002T190000
DTEND;TZID=America/Chicago:20251002T190000
DTSTAMP:20260422T085458
CREATED:20250904T195501Z
LAST-MODIFIED:20250904T195714Z
UID:10000225-1759431600-1759431600@bradfordpubngrub.com
SUMMARY:Texas Hold 'Em
DESCRIPTION:
URL:https://bradfordpubngrub.com/event/texas-hold-em-october-2/
LOCATION:Bradford Pub & Grub\, Cambridge\, MN\, 55008
CATEGORIES:Texas Hold 'Em
END:VEVENT
BEGIN:VEVENT
DTSTART;TZID=America/Chicago:20251005T083000
DTEND;TZID=America/Chicago:20251005T083000
DTSTAMP:20260422T085458
CREATED:20250904T194447Z
LAST-MODIFIED:20250904T194447Z
UID:10000217-1759653000-1759653000@bradfordpubngrub.com
SUMMARY:Vikings vs Browns
DESCRIPTION:
URL:https://bradfordpubngrub.com/event/vikings-vs-browns-october-5/
LOCATION:Bradford Pub & Grub\, Cambridge\, MN\, 55008
CATEGORIES:Vikings Football
END:VEVENT
BEGIN:VEVENT
DTSTART;TZID=America/Chicago:20251007T190000
DTEND;TZID=America/Chicago:20251007T190000
DTSTAMP:20260422T085458
CREATED:20250904T195216Z
LAST-MODIFIED:20251205T182139Z
UID:10000314-1759863600-1759863600@bradfordpubngrub.com
SUMMARY:Bingo
DESCRIPTION:
URL:https://bradfordpubngrub.com/event/bingo-september-30/2025-10-07/
LOCATION:Bradford Pub & Grub\, Cambridge\, MN\, 55008
CATEGORIES:Bingo
END:VEVENT
BEGIN:VEVENT
DTSTART;TZID=America/Chicago:20251009T180000
DTEND;TZID=America/Chicago:20251009T180000
DTSTAMP:20260422T085458
CREATED:20260102T190306Z
LAST-MODIFIED:20260102T190306Z
UID:10000335-1760032800-1760032800@bradfordpubngrub.com
SUMMARY:Meat Raffle
DESCRIPTION:
URL:https://bradfordpubngrub.com/event/meat-raffle-7/2025-10-09/
LOCATION:Bradford Pub & Grub\, Cambridge\, MN\, 55008
CATEGORIES:Meat RAffle
END:VEVENT
BEGIN:VEVENT
DTSTART;TZID=America/Chicago:20251009T183000
DTEND;TZID=America/Chicago:20251009T183000
DTSTAMP:20260422T085458
CREATED:20250710T154725Z
LAST-MODIFIED:20251205T175310Z
UID:10000276-1760034600-1760034600@bradfordpubngrub.com
SUMMARY:Horse Racing
DESCRIPTION:
URL:https://bradfordpubngrub.com/event/horse-racing-7/2025-10-09/
LOCATION:Bradford Pub & Grub\, Cambridge\, MN\, 55008
CATEGORIES:Horse Racing
END:VEVENT
BEGIN:VEVENT
DTSTART;TZID=America/Chicago:20251014T190000
DTEND;TZID=America/Chicago:20251014T190000
DTSTAMP:20260422T085458
CREATED:20250904T195216Z
LAST-MODIFIED:20251205T182139Z
UID:10000315-1760468400-1760468400@bradfordpubngrub.com
SUMMARY:Bingo
DESCRIPTION:
URL:https://bradfordpubngrub.com/event/bingo-september-30/2025-10-14/
LOCATION:Bradford Pub & Grub\, Cambridge\, MN\, 55008
CATEGORIES:Bingo
END:VEVENT
BEGIN:VEVENT
DTSTART;TZID=America/Chicago:20251016T180000
DTEND;TZID=America/Chicago:20251016T180000
DTSTAMP:20260422T085458
CREATED:20260102T190306Z
LAST-MODIFIED:20260102T190306Z
UID:10000336-1760637600-1760637600@bradfordpubngrub.com
SUMMARY:Meat Raffle
DESCRIPTION:
URL:https://bradfordpubngrub.com/event/meat-raffle-7/2025-10-16/
LOCATION:Bradford Pub & Grub\, Cambridge\, MN\, 55008
CATEGORIES:Meat RAffle
END:VEVENT
BEGIN:VEVENT
DTSTART;TZID=America/Chicago:20251016T183000
DTEND;TZID=America/Chicago:20251016T183000
DTSTAMP:20260422T085458
CREATED:20250710T154725Z
LAST-MODIFIED:20251205T175310Z
UID:10000277-1760639400-1760639400@bradfordpubngrub.com
SUMMARY:Horse Racing
DESCRIPTION:
URL:https://bradfordpubngrub.com/event/horse-racing-7/2025-10-16/
LOCATION:Bradford Pub & Grub\, Cambridge\, MN\, 55008
CATEGORIES:Horse Racing
END:VEVENT
BEGIN:VEVENT
DTSTART;TZID=America/Chicago:20251019T120000
DTEND;TZID=America/Chicago:20251019T120000
DTSTAMP:20260422T085458
CREATED:20250904T194609Z
LAST-MODIFIED:20250904T194609Z
UID:10000218-1760875200-1760875200@bradfordpubngrub.com
SUMMARY:Vikings vs Eagles
DESCRIPTION:
URL:https://bradfordpubngrub.com/event/vikings-vs-eagles-october-19/
LOCATION:Bradford Pub & Grub\, Cambridge\, MN\, 55008
CATEGORIES:Vikings Football
END:VEVENT
BEGIN:VEVENT
DTSTART;TZID=America/Chicago:20251021T190000
DTEND;TZID=America/Chicago:20251021T190000
DTSTAMP:20260422T085458
CREATED:20250904T195216Z
LAST-MODIFIED:20251205T182139Z
UID:10000316-1761073200-1761073200@bradfordpubngrub.com
SUMMARY:Bingo
DESCRIPTION:
URL:https://bradfordpubngrub.com/event/bingo-september-30/2025-10-21/
LOCATION:Bradford Pub & Grub\, Cambridge\, MN\, 55008
CATEGORIES:Bingo
END:VEVENT
BEGIN:VEVENT
DTSTART;TZID=America/Chicago:20251023T180000
DTEND;TZID=America/Chicago:20251023T180000
DTSTAMP:20260422T085458
CREATED:20260102T190306Z
LAST-MODIFIED:20260102T190306Z
UID:10000337-1761242400-1761242400@bradfordpubngrub.com
SUMMARY:Meat Raffle
DESCRIPTION:
URL:https://bradfordpubngrub.com/event/meat-raffle-7/2025-10-23/
LOCATION:Bradford Pub & Grub\, Cambridge\, MN\, 55008
CATEGORIES:Meat RAffle
END:VEVENT
BEGIN:VEVENT
DTSTART;TZID=America/Chicago:20251023T183000
DTEND;TZID=America/Chicago:20251023T183000
DTSTAMP:20260422T085458
CREATED:20250710T154725Z
LAST-MODIFIED:20251205T175310Z
UID:10000278-1761244200-1761244200@bradfordpubngrub.com
SUMMARY:Horse Racing
DESCRIPTION:
URL:https://bradfordpubngrub.com/event/horse-racing-7/2025-10-23/
LOCATION:Bradford Pub & Grub\, Cambridge\, MN\, 55008
CATEGORIES:Horse Racing
END:VEVENT
BEGIN:VEVENT
DTSTART;TZID=America/Chicago:20251023T191500
DTEND;TZID=America/Chicago:20251023T191500
DTSTAMP:20260422T085458
CREATED:20250904T194711Z
LAST-MODIFIED:20250904T194711Z
UID:10000219-1761246900-1761246900@bradfordpubngrub.com
SUMMARY:Vikings vs Chargers
DESCRIPTION:
URL:https://bradfordpubngrub.com/event/vikings-vs-chargers-october-23/
LOCATION:Bradford Pub & Grub\, Cambridge\, MN\, 55008
CATEGORIES:Vikings Football
END:VEVENT
BEGIN:VEVENT
DTSTART;TZID=America/Chicago:20251026T083000
DTEND;TZID=America/Chicago:20251026T083000
DTSTAMP:20260422T085458
CREATED:20250904T194804Z
LAST-MODIFIED:20250904T194804Z
UID:10000220-1761467400-1761467400@bradfordpubngrub.com
SUMMARY:Vikings vs Steelers
DESCRIPTION:
URL:https://bradfordpubngrub.com/event/vikings-vs-steelers-october-26/
LOCATION:Bradford Pub & Grub\, Cambridge\, MN\, 55008
CATEGORIES:Vikings Football
END:VEVENT
BEGIN:VEVENT
DTSTART;TZID=America/Chicago:20251028T190000
DTEND;TZID=America/Chicago:20251028T190000
DTSTAMP:20260422T085458
CREATED:20251129T224702Z
LAST-MODIFIED:20251129T224702Z
UID:10000252-1761678000-1761678000@bradfordpubngrub.com
SUMMARY:Bingo
DESCRIPTION:
URL:https://bradfordpubngrub.com/event/bingo-18/
LOCATION:Bradford Pub & Grub\, Cambridge\, MN\, 55008
CATEGORIES:Bingo
END:VEVENT
BEGIN:VEVENT
DTSTART;TZID=America/Chicago:20251030T180000
DTEND;TZID=America/Chicago:20251030T180000
DTSTAMP:20260422T085458
CREATED:20260102T190306Z
LAST-MODIFIED:20260102T190306Z
UID:10000338-1761847200-1761847200@bradfordpubngrub.com
SUMMARY:Meat Raffle
DESCRIPTION:
URL:https://bradfordpubngrub.com/event/meat-raffle-7/2025-10-30/
LOCATION:Bradford Pub & Grub\, Cambridge\, MN\, 55008
CATEGORIES:Meat RAffle
END:VEVENT
BEGIN:VEVENT
DTSTART;TZID=America/Chicago:20251030T183000
DTEND;TZID=America/Chicago:20251030T183000
DTSTAMP:20260422T085458
CREATED:20250710T154725Z
LAST-MODIFIED:20251205T175310Z
UID:10000279-1761849000-1761849000@bradfordpubngrub.com
SUMMARY:Horse Racing
DESCRIPTION:
URL:https://bradfordpubngrub.com/event/horse-racing-7/2025-10-30/
LOCATION:Bradford Pub & Grub\, Cambridge\, MN\, 55008
CATEGORIES:Horse Racing
END:VEVENT
END:VCALENDAR