BEGIN:VCALENDAR
VERSION:2.0
PRODID:-//Bradford Pub n Grub - ECPv6.15.20//NONSGML v1.0//EN
CALSCALE:GREGORIAN
METHOD:PUBLISH
X-ORIGINAL-URL:https://bradfordpubngrub.com
X-WR-CALDESC:Events for Bradford Pub n Grub
REFRESH-INTERVAL;VALUE=DURATION:PT1H
X-Robots-Tag:noindex
X-PUBLISHED-TTL:PT1H
BEGIN:VTIMEZONE
TZID:America/Chicago
BEGIN:DAYLIGHT
TZOFFSETFROM:-0600
TZOFFSETTO:-0500
TZNAME:CDT
DTSTART:20240310T080000
END:DAYLIGHT
BEGIN:STANDARD
TZOFFSETFROM:-0500
TZOFFSETTO:-0600
TZNAME:CST
DTSTART:20241103T070000
END:STANDARD
BEGIN:DAYLIGHT
TZOFFSETFROM:-0600
TZOFFSETTO:-0500
TZNAME:CDT
DTSTART:20250309T080000
END:DAYLIGHT
BEGIN:STANDARD
TZOFFSETFROM:-0500
TZOFFSETTO:-0600
TZNAME:CST
DTSTART:20251102T070000
END:STANDARD
BEGIN:DAYLIGHT
TZOFFSETFROM:-0600
TZOFFSETTO:-0500
TZNAME:CDT
DTSTART:20260308T080000
END:DAYLIGHT
BEGIN:STANDARD
TZOFFSETFROM:-0500
TZOFFSETTO:-0600
TZNAME:CST
DTSTART:20261101T070000
END:STANDARD
END:VTIMEZONE
BEGIN:VEVENT
DTSTART;TZID=America/Chicago:20250902T190000
DTEND;TZID=America/Chicago:20250902T190000
DTSTAMP:20260422T142929
CREATED:20250904T195333Z
LAST-MODIFIED:20250904T195333Z
UID:10000224-1756839600-1756839600@bradfordpubngrub.com
SUMMARY:Bingo
DESCRIPTION:
URL:https://bradfordpubngrub.com/event/bingo-september-2/
LOCATION:Bradford Pub & Grub\, Cambridge\, MN\, 55008
CATEGORIES:Bingo
END:VEVENT
BEGIN:VEVENT
DTSTART;TZID=America/Chicago:20250904T180000
DTEND;TZID=America/Chicago:20250904T180000
DTSTAMP:20260422T142929
CREATED:20260102T190306Z
LAST-MODIFIED:20260102T190306Z
UID:10000330-1757008800-1757008800@bradfordpubngrub.com
SUMMARY:Meat Raffle
DESCRIPTION:
URL:https://bradfordpubngrub.com/event/meat-raffle-7/2025-09-04/
LOCATION:Bradford Pub & Grub\, Cambridge\, MN\, 55008
CATEGORIES:Meat RAffle
END:VEVENT
BEGIN:VEVENT
DTSTART;TZID=America/Chicago:20250904T183000
DTEND;TZID=America/Chicago:20250904T183000
DTSTAMP:20260422T142929
CREATED:20250710T154725Z
LAST-MODIFIED:20251205T175310Z
UID:10000271-1757010600-1757010600@bradfordpubngrub.com
SUMMARY:Horse Racing
DESCRIPTION:
URL:https://bradfordpubngrub.com/event/horse-racing-7/2025-09-04/
LOCATION:Bradford Pub & Grub\, Cambridge\, MN\, 55008
CATEGORIES:Horse Racing
END:VEVENT
BEGIN:VEVENT
DTSTART;TZID=America/Chicago:20250904T190000
DTEND;TZID=America/Chicago:20250904T190000
DTSTAMP:20260422T142929
CREATED:20250904T193105Z
LAST-MODIFIED:20250904T195739Z
UID:10000208-1757012400-1757012400@bradfordpubngrub.com
SUMMARY:Texas Hold 'Em
DESCRIPTION:
URL:https://bradfordpubngrub.com/event/texas-hold-em-september-4/
LOCATION:Bradford Pub & Grub\, Cambridge\, MN\, 55008
CATEGORIES:Texas Hold 'Em
END:VEVENT
BEGIN:VEVENT
DTSTART;TZID=America/Chicago:20250908T191500
DTEND;TZID=America/Chicago:20250908T191500
DTSTAMP:20260422T142929
CREATED:20250904T193830Z
LAST-MODIFIED:20250904T193830Z
UID:10000213-1757358900-1757358900@bradfordpubngrub.com
SUMMARY:Vikings vs Chicago
DESCRIPTION:
URL:https://bradfordpubngrub.com/event/vikings-vs-chicago-september-8/
LOCATION:Bradford Pub & Grub\, Cambridge\, MN\, 55008
CATEGORIES:Vikings Football
END:VEVENT
BEGIN:VEVENT
DTSTART;TZID=America/Chicago:20250909T190000
DTEND;TZID=America/Chicago:20250909T190000
DTSTAMP:20260422T142929
CREATED:20250904T193620Z
LAST-MODIFIED:20250904T193620Z
UID:10000212-1757444400-1757444400@bradfordpubngrub.com
SUMMARY:Bingo
DESCRIPTION:
URL:https://bradfordpubngrub.com/event/bingo-september-9/
LOCATION:Bradford Pub & Grub\, Cambridge\, MN\, 55008
CATEGORIES:Bingo
END:VEVENT
BEGIN:VEVENT
DTSTART;TZID=America/Chicago:20250911T180000
DTEND;TZID=America/Chicago:20250911T180000
DTSTAMP:20260422T142929
CREATED:20260102T190306Z
LAST-MODIFIED:20260102T190306Z
UID:10000331-1757613600-1757613600@bradfordpubngrub.com
SUMMARY:Meat Raffle
DESCRIPTION:
URL:https://bradfordpubngrub.com/event/meat-raffle-7/2025-09-11/
LOCATION:Bradford Pub & Grub\, Cambridge\, MN\, 55008
CATEGORIES:Meat RAffle
END:VEVENT
BEGIN:VEVENT
DTSTART;TZID=America/Chicago:20250911T183000
DTEND;TZID=America/Chicago:20250911T183000
DTSTAMP:20260422T142929
CREATED:20250710T154725Z
LAST-MODIFIED:20251205T175310Z
UID:10000272-1757615400-1757615400@bradfordpubngrub.com
SUMMARY:Horse Racing
DESCRIPTION:
URL:https://bradfordpubngrub.com/event/horse-racing-7/2025-09-11/
LOCATION:Bradford Pub & Grub\, Cambridge\, MN\, 55008
CATEGORIES:Horse Racing
END:VEVENT
BEGIN:VEVENT
DTSTART;TZID=America/Chicago:20250911T190000
DTEND;TZID=America/Chicago:20250911T190000
DTSTAMP:20260422T142929
CREATED:20250904T193138Z
LAST-MODIFIED:20250904T195556Z
UID:10000209-1757617200-1757617200@bradfordpubngrub.com
SUMMARY:Texas Hold 'Em
DESCRIPTION:
URL:https://bradfordpubngrub.com/event/texas-hold/
LOCATION:Bradford Pub & Grub\, Cambridge\, MN\, 55008
CATEGORIES:Texas Hold 'Em
END:VEVENT
BEGIN:VEVENT
DTSTART;TZID=America/Chicago:20250914T192000
DTEND;TZID=America/Chicago:20250914T192000
DTSTAMP:20260422T142929
CREATED:20250904T194031Z
LAST-MODIFIED:20250904T194031Z
UID:10000214-1757877600-1757877600@bradfordpubngrub.com
SUMMARY:Vikings vs Falcons
DESCRIPTION:
URL:https://bradfordpubngrub.com/event/vikings-vs-falcons-september-14/
LOCATION:Bradford Pub & Grub\, Cambridge\, MN\, 55008
CATEGORIES:Vikings Football
END:VEVENT
BEGIN:VEVENT
DTSTART;TZID=America/Chicago:20250916T190000
DTEND;TZID=America/Chicago:20250916T190000
DTSTAMP:20260422T142929
CREATED:20250904T194958Z
LAST-MODIFIED:20250904T194958Z
UID:10000221-1758049200-1758049200@bradfordpubngrub.com
SUMMARY:Bingo
DESCRIPTION:
URL:https://bradfordpubngrub.com/event/bingo-september-16/
LOCATION:Bradford Pub & Grub\, Cambridge\, MN\, 55008
CATEGORIES:Bingo
END:VEVENT
BEGIN:VEVENT
DTSTART;TZID=America/Chicago:20250918T180000
DTEND;TZID=America/Chicago:20250918T180000
DTSTAMP:20260422T142929
CREATED:20260102T190306Z
LAST-MODIFIED:20260102T190306Z
UID:10000332-1758218400-1758218400@bradfordpubngrub.com
SUMMARY:Meat Raffle
DESCRIPTION:
URL:https://bradfordpubngrub.com/event/meat-raffle-7/2025-09-18/
LOCATION:Bradford Pub & Grub\, Cambridge\, MN\, 55008
CATEGORIES:Meat RAffle
END:VEVENT
BEGIN:VEVENT
DTSTART;TZID=America/Chicago:20250918T183000
DTEND;TZID=America/Chicago:20250918T183000
DTSTAMP:20260422T142929
CREATED:20250710T154725Z
LAST-MODIFIED:20251205T175310Z
UID:10000273-1758220200-1758220200@bradfordpubngrub.com
SUMMARY:Horse Racing
DESCRIPTION:
URL:https://bradfordpubngrub.com/event/horse-racing-7/2025-09-18/
LOCATION:Bradford Pub & Grub\, Cambridge\, MN\, 55008
CATEGORIES:Horse Racing
END:VEVENT
BEGIN:VEVENT
DTSTART;TZID=America/Chicago:20250918T190000
DTEND;TZID=America/Chicago:20250918T190000
DTSTAMP:20260422T142929
CREATED:20250904T193234Z
LAST-MODIFIED:20250904T195619Z
UID:10000210-1758222000-1758222000@bradfordpubngrub.com
SUMMARY:Texas Hold 'Em
DESCRIPTION:
URL:https://bradfordpubngrub.com/event/texas-hold-em-september-18/
LOCATION:Bradford Pub & Grub\, Cambridge\, MN\, 55008
CATEGORIES:Texas Hold 'Em
END:VEVENT
BEGIN:VEVENT
DTSTART;TZID=America/Chicago:20250921T120000
DTEND;TZID=America/Chicago:20250921T120000
DTSTAMP:20260422T142929
CREATED:20250904T194131Z
LAST-MODIFIED:20250904T194131Z
UID:10000215-1758456000-1758456000@bradfordpubngrub.com
SUMMARY:Vikings vs Bengals
DESCRIPTION:
URL:https://bradfordpubngrub.com/event/vikings-vs-bengals-september-21/
LOCATION:Bradford Pub & Grub\, Cambridge\, MN\, 55008
CATEGORIES:Vikings Football
END:VEVENT
BEGIN:VEVENT
DTSTART;TZID=America/Chicago:20250923T190000
DTEND;TZID=America/Chicago:20250923T190000
DTSTAMP:20260422T142929
CREATED:20250904T195126Z
LAST-MODIFIED:20250904T195126Z
UID:10000222-1758654000-1758654000@bradfordpubngrub.com
SUMMARY:Bingo
DESCRIPTION:
URL:https://bradfordpubngrub.com/event/bingo-september-23/
LOCATION:Bradford Pub & Grub\, Cambridge\, MN\, 55008
CATEGORIES:Bingo
END:VEVENT
BEGIN:VEVENT
DTSTART;TZID=America/Chicago:20250925T180000
DTEND;TZID=America/Chicago:20250925T180000
DTSTAMP:20260422T142929
CREATED:20260102T190306Z
LAST-MODIFIED:20260102T190306Z
UID:10000333-1758823200-1758823200@bradfordpubngrub.com
SUMMARY:Meat Raffle
DESCRIPTION:
URL:https://bradfordpubngrub.com/event/meat-raffle-7/2025-09-25/
LOCATION:Bradford Pub & Grub\, Cambridge\, MN\, 55008
CATEGORIES:Meat RAffle
END:VEVENT
BEGIN:VEVENT
DTSTART;TZID=America/Chicago:20250925T183000
DTEND;TZID=America/Chicago:20250925T183000
DTSTAMP:20260422T142929
CREATED:20250710T154725Z
LAST-MODIFIED:20251205T175310Z
UID:10000274-1758825000-1758825000@bradfordpubngrub.com
SUMMARY:Horse Racing
DESCRIPTION:
URL:https://bradfordpubngrub.com/event/horse-racing-7/2025-09-25/
LOCATION:Bradford Pub & Grub\, Cambridge\, MN\, 55008
CATEGORIES:Horse Racing
END:VEVENT
BEGIN:VEVENT
DTSTART;TZID=America/Chicago:20250925T190000
DTEND;TZID=America/Chicago:20250925T190000
DTSTAMP:20260422T142929
CREATED:20250904T193323Z
LAST-MODIFIED:20250904T195651Z
UID:10000211-1758826800-1758826800@bradfordpubngrub.com
SUMMARY:Texas Hold 'Em
DESCRIPTION:
URL:https://bradfordpubngrub.com/event/texas-hold-em-september-25/
LOCATION:Bradford Pub & Grub\, Cambridge\, MN\, 55008
CATEGORIES:Texas Hold 'Em
END:VEVENT
BEGIN:VEVENT
DTSTART;TZID=America/Chicago:20250928T083000
DTEND;TZID=America/Chicago:20250928T083000
DTSTAMP:20260422T142929
CREATED:20250904T194306Z
LAST-MODIFIED:20250904T194306Z
UID:10000216-1759048200-1759048200@bradfordpubngrub.com
SUMMARY:Vikings vs Steelers
DESCRIPTION:
URL:https://bradfordpubngrub.com/event/vikings-vs-steelers-september-28/
LOCATION:Bradford Pub & Grub\, Cambridge\, MN\, 55008
CATEGORIES:Vikings Football
END:VEVENT
BEGIN:VEVENT
DTSTART;TZID=America/Chicago:20250930T190000
DTEND;TZID=America/Chicago:20250930T190000
DTSTAMP:20260422T142929
CREATED:20250904T195216Z
LAST-MODIFIED:20251205T182139Z
UID:10000223-1759258800-1759258800@bradfordpubngrub.com
SUMMARY:Bingo
DESCRIPTION:
URL:https://bradfordpubngrub.com/event/bingo-september-30/2025-09-30/
LOCATION:Bradford Pub & Grub\, Cambridge\, MN\, 55008
CATEGORIES:Bingo
END:VEVENT
END:VCALENDAR