BEGIN:VCALENDAR
VERSION:2.0
PRODID:-//Bradford Pub n Grub - ECPv6.15.20//NONSGML v1.0//EN
CALSCALE:GREGORIAN
METHOD:PUBLISH
X-WR-CALNAME:Bradford Pub n Grub
X-ORIGINAL-URL:https://bradfordpubngrub.com
X-WR-CALDESC:Events for Bradford Pub n Grub
REFRESH-INTERVAL;VALUE=DURATION:PT1H
X-Robots-Tag:noindex
X-PUBLISHED-TTL:PT1H
BEGIN:VTIMEZONE
TZID:America/Chicago
BEGIN:DAYLIGHT
TZOFFSETFROM:-0600
TZOFFSETTO:-0500
TZNAME:CDT
DTSTART:20240310T080000
END:DAYLIGHT
BEGIN:STANDARD
TZOFFSETFROM:-0500
TZOFFSETTO:-0600
TZNAME:CST
DTSTART:20241103T070000
END:STANDARD
BEGIN:DAYLIGHT
TZOFFSETFROM:-0600
TZOFFSETTO:-0500
TZNAME:CDT
DTSTART:20250309T080000
END:DAYLIGHT
BEGIN:STANDARD
TZOFFSETFROM:-0500
TZOFFSETTO:-0600
TZNAME:CST
DTSTART:20251102T070000
END:STANDARD
BEGIN:DAYLIGHT
TZOFFSETFROM:-0600
TZOFFSETTO:-0500
TZNAME:CDT
DTSTART:20260308T080000
END:DAYLIGHT
BEGIN:STANDARD
TZOFFSETFROM:-0500
TZOFFSETTO:-0600
TZNAME:CST
DTSTART:20261101T070000
END:STANDARD
END:VTIMEZONE
BEGIN:VEVENT
DTSTART;TZID=America/Chicago:20250701T180000
DTEND;TZID=America/Chicago:20250701T180000
DTSTAMP:20260422T180046
CREATED:20241230T175114Z
LAST-MODIFIED:20250610T035952Z
UID:10000042-1751392800-1751392800@bradfordpubngrub.com
SUMMARY:Meat Raffle
DESCRIPTION:
URL:https://bradfordpubngrub.com/event/meat-raffle-january-28/2025-07-01/
LOCATION:Bradford Pub & Grub\, Cambridge\, MN\, 55008
CATEGORIES:Meat RAffle
END:VEVENT
BEGIN:VEVENT
DTSTART;TZID=America/Chicago:20250701T190000
DTEND;TZID=America/Chicago:20250701T190000
DTSTAMP:20260422T180046
CREATED:20250610T035529Z
LAST-MODIFIED:20250610T035529Z
UID:10000176-1751396400-1751396400@bradfordpubngrub.com
SUMMARY:Bingo
DESCRIPTION:
URL:https://bradfordpubngrub.com/event/bingo-4/
LOCATION:Bradford Pub & Grub\, Cambridge\, MN\, 55008
CATEGORIES:Bingo
END:VEVENT
BEGIN:VEVENT
DTSTART;TZID=America/Chicago:20250703T180000
DTEND;TZID=America/Chicago:20250703T180000
DTSTAMP:20260422T180046
CREATED:20250405T023153Z
LAST-MODIFIED:20250610T035443Z
UID:10000153-1751565600-1751565600@bradfordpubngrub.com
SUMMARY:Texas Hold 'Em
DESCRIPTION:
URL:https://bradfordpubngrub.com/event/texas-hold-em-january-19-2/2025-07-03/1/
LOCATION:Bradford Pub & Grub\, Cambridge\, MN\, 55008
CATEGORIES:Texas Hold 'Em
END:VEVENT
BEGIN:VEVENT
DTSTART;TZID=America/Chicago:20250703T180000
DTEND;TZID=America/Chicago:20250703T180000
DTSTAMP:20260422T180046
CREATED:20260102T190306Z
LAST-MODIFIED:20260102T190306Z
UID:10000321-1751565600-1751565600@bradfordpubngrub.com
SUMMARY:Meat Raffle
DESCRIPTION:
URL:https://bradfordpubngrub.com/event/meat-raffle-7/2025-07-03/
LOCATION:Bradford Pub & Grub\, Cambridge\, MN\, 55008
CATEGORIES:Meat RAffle
END:VEVENT
BEGIN:VEVENT
DTSTART;TZID=America/Chicago:20250703T183000
DTEND;TZID=America/Chicago:20250703T183000
DTSTAMP:20260422T180046
CREATED:20250610T035400Z
LAST-MODIFIED:20250610T035400Z
UID:10000175-1751567400-1751567400@bradfordpubngrub.com
SUMMARY:Horse Racing
DESCRIPTION:
URL:https://bradfordpubngrub.com/event/horse-racing-3/
LOCATION:Bradford Pub & Grub\, Cambridge\, MN\, 55008
CATEGORIES:Horse Racing
END:VEVENT
BEGIN:VEVENT
DTSTART;TZID=America/Chicago:20250703T190000
DTEND;TZID=America/Chicago:20250703T190000
DTSTAMP:20260422T180046
CREATED:20250405T023153Z
LAST-MODIFIED:20250610T035443Z
UID:10000154-1751569200-1751569200@bradfordpubngrub.com
SUMMARY:Texas Hold 'Em
DESCRIPTION:
URL:https://bradfordpubngrub.com/event/texas-hold-em-january-19-2/2025-07-03/2/
LOCATION:Bradford Pub & Grub\, Cambridge\, MN\, 55008
CATEGORIES:Texas Hold 'Em
END:VEVENT
BEGIN:VEVENT
DTSTART;TZID=America/Chicago:20250708T180000
DTEND;TZID=America/Chicago:20250708T180000
DTSTAMP:20260422T180046
CREATED:20250710T155116Z
LAST-MODIFIED:20250710T155346Z
UID:10000197-1751997600-1751997600@bradfordpubngrub.com
SUMMARY:Meat Raffle
DESCRIPTION:
URL:https://bradfordpubngrub.com/event/meat-raffle-july-8/
LOCATION:Bradford Pub & Grub\, Cambridge\, MN\, 55008
CATEGORIES:Meat RAffle
END:VEVENT
BEGIN:VEVENT
DTSTART;TZID=America/Chicago:20250708T190000
DTEND;TZID=America/Chicago:20250708T190000
DTSTAMP:20260422T180046
CREATED:20250610T040218Z
LAST-MODIFIED:20250610T040218Z
UID:10000180-1752001200-1752001200@bradfordpubngrub.com
SUMMARY:Bingo
DESCRIPTION:
URL:https://bradfordpubngrub.com/event/bingo-5/
LOCATION:Bradford Pub & Grub\, Cambridge\, MN\, 55008
CATEGORIES:Bingo
END:VEVENT
BEGIN:VEVENT
DTSTART;TZID=America/Chicago:20250710T180000
DTEND;TZID=America/Chicago:20250710T180000
DTSTAMP:20260422T180046
CREATED:20260102T190306Z
LAST-MODIFIED:20260102T190306Z
UID:10000322-1752170400-1752170400@bradfordpubngrub.com
SUMMARY:Meat Raffle
DESCRIPTION:
URL:https://bradfordpubngrub.com/event/meat-raffle-7/2025-07-10/
LOCATION:Bradford Pub & Grub\, Cambridge\, MN\, 55008
CATEGORIES:Meat RAffle
END:VEVENT
BEGIN:VEVENT
DTSTART;TZID=America/Chicago:20250710T183000
DTEND;TZID=America/Chicago:20250710T183000
DTSTAMP:20260422T180046
CREATED:20250710T154518Z
LAST-MODIFIED:20250710T154518Z
UID:10000190-1752172200-1752172200@bradfordpubngrub.com
SUMMARY:Horse Racing
DESCRIPTION:
URL:https://bradfordpubngrub.com/event/horse-racing-4/
LOCATION:Bradford Pub & Grub\, Cambridge\, MN\, 55008
CATEGORIES:Horse Racing
END:VEVENT
BEGIN:VEVENT
DTSTART;TZID=America/Chicago:20250710T190000
DTEND;TZID=America/Chicago:20250710T190000
DTSTAMP:20260422T180046
CREATED:20250610T040616Z
LAST-MODIFIED:20250610T040616Z
UID:10000184-1752174000-1752174000@bradfordpubngrub.com
SUMMARY:Texas Hold Em
DESCRIPTION:
URL:https://bradfordpubngrub.com/event/texas-hold-em-5/
LOCATION:Bradford Pub & Grub\, Cambridge\, MN\, 55008
CATEGORIES:Texas Hold 'Em
END:VEVENT
BEGIN:VEVENT
DTSTART;TZID=America/Chicago:20250715T180000
DTEND;TZID=America/Chicago:20250715T180000
DTSTAMP:20260422T180046
CREATED:20250710T154825Z
LAST-MODIFIED:20250710T154825Z
UID:10000194-1752602400-1752602400@bradfordpubngrub.com
SUMMARY:Meat Raffle
DESCRIPTION:
URL:https://bradfordpubngrub.com/event/meat-raffle-4/
LOCATION:Bradford Pub & Grub\, Cambridge\, MN\, 55008
CATEGORIES:Meat RAffle
END:VEVENT
BEGIN:VEVENT
DTSTART;TZID=America/Chicago:20250715T190000
DTEND;TZID=America/Chicago:20250715T190000
DTSTAMP:20260422T180046
CREATED:20250610T040255Z
LAST-MODIFIED:20250610T040255Z
UID:10000181-1752606000-1752606000@bradfordpubngrub.com
SUMMARY:Bingo
DESCRIPTION:
URL:https://bradfordpubngrub.com/event/bingo-6/
LOCATION:Bradford Pub & Grub\, Cambridge\, MN\, 55008
CATEGORIES:Bingo
END:VEVENT
BEGIN:VEVENT
DTSTART;TZID=America/Chicago:20250717T180000
DTEND;TZID=America/Chicago:20250717T180000
DTSTAMP:20260422T180046
CREATED:20260102T190306Z
LAST-MODIFIED:20260102T190306Z
UID:10000323-1752775200-1752775200@bradfordpubngrub.com
SUMMARY:Meat Raffle
DESCRIPTION:
URL:https://bradfordpubngrub.com/event/meat-raffle-7/2025-07-17/
LOCATION:Bradford Pub & Grub\, Cambridge\, MN\, 55008
CATEGORIES:Meat RAffle
END:VEVENT
BEGIN:VEVENT
DTSTART;TZID=America/Chicago:20250717T183000
DTEND;TZID=America/Chicago:20250717T183000
DTSTAMP:20260422T180046
CREATED:20250710T154555Z
LAST-MODIFIED:20250710T154555Z
UID:10000191-1752777000-1752777000@bradfordpubngrub.com
SUMMARY:Horse Racing
DESCRIPTION:
URL:https://bradfordpubngrub.com/event/horse-racing-5/
LOCATION:Bradford Pub & Grub\, Cambridge\, MN\, 55008
CATEGORIES:Horse Racing
END:VEVENT
BEGIN:VEVENT
DTSTART;TZID=America/Chicago:20250717T190000
DTEND;TZID=America/Chicago:20250717T190000
DTSTAMP:20260422T180046
CREATED:20250610T040650Z
LAST-MODIFIED:20250610T040650Z
UID:10000185-1752778800-1752778800@bradfordpubngrub.com
SUMMARY:Texas Hold Em
DESCRIPTION:
URL:https://bradfordpubngrub.com/event/texas-hold-em-6/
LOCATION:Bradford Pub & Grub\, Cambridge\, MN\, 55008
CATEGORIES:Texas Hold 'Em
END:VEVENT
BEGIN:VEVENT
DTSTART;TZID=America/Chicago:20250722T180000
DTEND;TZID=America/Chicago:20250722T180000
DTSTAMP:20260422T180046
CREATED:20250710T154857Z
LAST-MODIFIED:20250710T154857Z
UID:10000195-1753207200-1753207200@bradfordpubngrub.com
SUMMARY:Meat Raffle
DESCRIPTION:
URL:https://bradfordpubngrub.com/event/meat-raffle-5/
LOCATION:Bradford Pub & Grub\, Cambridge\, MN\, 55008
CATEGORIES:Meat RAffle
END:VEVENT
BEGIN:VEVENT
DTSTART;TZID=America/Chicago:20250722T190000
DTEND;TZID=America/Chicago:20250722T190000
DTSTAMP:20260422T180046
CREATED:20250610T040422Z
LAST-MODIFIED:20250610T040422Z
UID:10000182-1753210800-1753210800@bradfordpubngrub.com
SUMMARY:Bingo
DESCRIPTION:
URL:https://bradfordpubngrub.com/event/bingo-7/
LOCATION:Bradford Pub & Grub\, Cambridge\, MN\, 55008
CATEGORIES:Bingo
END:VEVENT
BEGIN:VEVENT
DTSTART;TZID=America/Chicago:20250724T180000
DTEND;TZID=America/Chicago:20250724T180000
DTSTAMP:20260422T180046
CREATED:20260102T190306Z
LAST-MODIFIED:20260102T190306Z
UID:10000324-1753380000-1753380000@bradfordpubngrub.com
SUMMARY:Meat Raffle
DESCRIPTION:
URL:https://bradfordpubngrub.com/event/meat-raffle-7/2025-07-24/
LOCATION:Bradford Pub & Grub\, Cambridge\, MN\, 55008
CATEGORIES:Meat RAffle
END:VEVENT
BEGIN:VEVENT
DTSTART;TZID=America/Chicago:20250724T183000
DTEND;TZID=America/Chicago:20250724T183000
DTSTAMP:20260422T180046
CREATED:20250710T154634Z
LAST-MODIFIED:20250710T154634Z
UID:10000192-1753381800-1753381800@bradfordpubngrub.com
SUMMARY:Horse Racing
DESCRIPTION:
URL:https://bradfordpubngrub.com/event/horse-racing-6/
LOCATION:Bradford Pub & Grub\, Cambridge\, MN\, 55008
CATEGORIES:Horse Racing
END:VEVENT
BEGIN:VEVENT
DTSTART;TZID=America/Chicago:20250724T190000
DTEND;TZID=America/Chicago:20250724T190000
DTSTAMP:20260422T180046
CREATED:20250610T040738Z
LAST-MODIFIED:20250610T040738Z
UID:10000186-1753383600-1753383600@bradfordpubngrub.com
SUMMARY:Texas Hold Em
DESCRIPTION:
URL:https://bradfordpubngrub.com/event/texas-hold-em-7/
LOCATION:Bradford Pub & Grub\, Cambridge\, MN\, 55008
CATEGORIES:Texas Hold 'Em
END:VEVENT
BEGIN:VEVENT
DTSTART;TZID=America/Chicago:20250729T180000
DTEND;TZID=America/Chicago:20250729T180000
DTSTAMP:20260422T180046
CREATED:20250710T155038Z
LAST-MODIFIED:20250710T155038Z
UID:10000196-1753812000-1753812000@bradfordpubngrub.com
SUMMARY:Meat Raffle
DESCRIPTION:
URL:https://bradfordpubngrub.com/event/meat-raffle-6/
LOCATION:Bradford Pub & Grub\, Cambridge\, MN\, 55008
CATEGORIES:Meat RAffle
END:VEVENT
BEGIN:VEVENT
DTSTART;TZID=America/Chicago:20250729T190000
DTEND;TZID=America/Chicago:20250729T190000
DTSTAMP:20260422T180046
CREATED:20250610T040502Z
LAST-MODIFIED:20251205T182720Z
UID:10000183-1753815600-1753815600@bradfordpubngrub.com
SUMMARY:Bingo
DESCRIPTION:
URL:https://bradfordpubngrub.com/event/bingo-8/2025-07-29/
LOCATION:Bradford Pub & Grub\, Cambridge\, MN\, 55008
CATEGORIES:Bingo
END:VEVENT
BEGIN:VEVENT
DTSTART;TZID=America/Chicago:20250731T180000
DTEND;TZID=America/Chicago:20250731T180000
DTSTAMP:20260422T180046
CREATED:20260102T190306Z
LAST-MODIFIED:20260102T190306Z
UID:10000325-1753984800-1753984800@bradfordpubngrub.com
SUMMARY:Meat Raffle
DESCRIPTION:
URL:https://bradfordpubngrub.com/event/meat-raffle-7/2025-07-31/
LOCATION:Bradford Pub & Grub\, Cambridge\, MN\, 55008
CATEGORIES:Meat RAffle
END:VEVENT
BEGIN:VEVENT
DTSTART;TZID=America/Chicago:20250731T183000
DTEND;TZID=America/Chicago:20250731T183000
DTSTAMP:20260422T180046
CREATED:20250710T154725Z
LAST-MODIFIED:20251205T175310Z
UID:10000266-1753986600-1753986600@bradfordpubngrub.com
SUMMARY:Horse Racing
DESCRIPTION:
URL:https://bradfordpubngrub.com/event/horse-racing-7/2025-07-31/
LOCATION:Bradford Pub & Grub\, Cambridge\, MN\, 55008
CATEGORIES:Horse Racing
END:VEVENT
BEGIN:VEVENT
DTSTART;TZID=America/Chicago:20250731T190000
DTEND;TZID=America/Chicago:20250731T190000
DTSTAMP:20260422T180046
CREATED:20250610T040840Z
LAST-MODIFIED:20250610T040840Z
UID:10000187-1753988400-1753988400@bradfordpubngrub.com
SUMMARY:Texas Hold Em
DESCRIPTION:
URL:https://bradfordpubngrub.com/event/texas-hold-em-8/
LOCATION:Bradford Pub & Grub\, Cambridge\, MN\, 55008
CATEGORIES:Texas Hold 'Em
END:VEVENT
END:VCALENDAR