BEGIN:VCALENDAR
VERSION:2.0
PRODID:-//Bradford Pub n Grub - ECPv6.15.20//NONSGML v1.0//EN
CALSCALE:GREGORIAN
METHOD:PUBLISH
X-ORIGINAL-URL:https://bradfordpubngrub.com
X-WR-CALDESC:Events for Bradford Pub n Grub
REFRESH-INTERVAL;VALUE=DURATION:PT1H
X-Robots-Tag:noindex
X-PUBLISHED-TTL:PT1H
BEGIN:VTIMEZONE
TZID:America/Chicago
BEGIN:DAYLIGHT
TZOFFSETFROM:-0600
TZOFFSETTO:-0500
TZNAME:CDT
DTSTART:20240310T080000
END:DAYLIGHT
BEGIN:STANDARD
TZOFFSETFROM:-0500
TZOFFSETTO:-0600
TZNAME:CST
DTSTART:20241103T070000
END:STANDARD
BEGIN:DAYLIGHT
TZOFFSETFROM:-0600
TZOFFSETTO:-0500
TZNAME:CDT
DTSTART:20250309T080000
END:DAYLIGHT
BEGIN:STANDARD
TZOFFSETFROM:-0500
TZOFFSETTO:-0600
TZNAME:CST
DTSTART:20251102T070000
END:STANDARD
BEGIN:DAYLIGHT
TZOFFSETFROM:-0600
TZOFFSETTO:-0500
TZNAME:CDT
DTSTART:20260308T080000
END:DAYLIGHT
BEGIN:STANDARD
TZOFFSETFROM:-0500
TZOFFSETTO:-0600
TZNAME:CST
DTSTART:20261101T070000
END:STANDARD
END:VTIMEZONE
BEGIN:VEVENT
DTSTART;TZID=America/Chicago:20250603T180000
DTEND;TZID=America/Chicago:20250603T180000
DTSTAMP:20260422T194951
CREATED:20241230T175114Z
LAST-MODIFIED:20250610T035952Z
UID:10000107-1748973600-1748973600@bradfordpubngrub.com
SUMMARY:Meat Raffle
DESCRIPTION:
URL:https://bradfordpubngrub.com/event/meat-raffle-january-28/2025-06-03/
LOCATION:Bradford Pub & Grub\, Cambridge\, MN\, 55008
CATEGORIES:Meat RAffle
END:VEVENT
BEGIN:VEVENT
DTSTART;TZID=America/Chicago:20250603T190000
DTEND;TZID=America/Chicago:20250603T190000
DTSTAMP:20260422T194951
CREATED:20241230T165320Z
LAST-MODIFIED:20241231T191347Z
UID:10000086-1748977200-1748977200@bradfordpubngrub.com
SUMMARY:Bingo
DESCRIPTION:
URL:https://bradfordpubngrub.com/event/bingo-january-28/2025-06-03/
LOCATION:Bradford Pub & Grub\, Cambridge\, MN\, 55008
CATEGORIES:Bingo
END:VEVENT
BEGIN:VEVENT
DTSTART;TZID=America/Chicago:20250603T190000
DTEND;TZID=America/Chicago:20250603T190000
DTSTAMP:20260422T194952
CREATED:20250610T035006Z
LAST-MODIFIED:20250610T035045Z
UID:10000172-1748977200-1748977200@bradfordpubngrub.com
SUMMARY:Bingo
DESCRIPTION:
URL:https://bradfordpubngrub.com/event/bingo-3/
LOCATION:Bradford Pub & Grub\, Cambridge\, MN\, 55008
CATEGORIES:Bingo
END:VEVENT
BEGIN:VEVENT
DTSTART;TZID=America/Chicago:20250605T180000
DTEND;TZID=America/Chicago:20250605T180000
DTSTAMP:20260422T194952
CREATED:20241230T180055Z
LAST-MODIFIED:20241231T192005Z
UID:10000128-1749146400-1749146400@bradfordpubngrub.com
SUMMARY:Meat Raffle
DESCRIPTION:
URL:https://bradfordpubngrub.com/event/meat-raffle-january-30/2025-06-05/
LOCATION:Bradford Pub & Grub\, Cambridge\, MN\, 55008
CATEGORIES:Meat RAffle
END:VEVENT
BEGIN:VEVENT
DTSTART;TZID=America/Chicago:20250605T183000
DTEND;TZID=America/Chicago:20250605T183000
DTSTAMP:20260422T194952
CREATED:20241230T165802Z
LAST-MODIFIED:20241231T192202Z
UID:10000149-1749148200-1749148200@bradfordpubngrub.com
SUMMARY:Horse Racing
DESCRIPTION:
URL:https://bradfordpubngrub.com/event/horse-racing-january-30/2025-06-05/
LOCATION:Bradford Pub & Grub\, Cambridge\, MN\, 55008
CATEGORIES:Horse Racing
END:VEVENT
BEGIN:VEVENT
DTSTART;TZID=America/Chicago:20250605T190000
DTEND;TZID=America/Chicago:20250605T190000
DTSTAMP:20260422T194952
CREATED:20250405T023153Z
LAST-MODIFIED:20250610T035443Z
UID:10000162-1749150000-1749150000@bradfordpubngrub.com
SUMMARY:Texas Hold 'Em
DESCRIPTION:
URL:https://bradfordpubngrub.com/event/texas-hold-em-january-19-2/2025-06-05/
LOCATION:Bradford Pub & Grub\, Cambridge\, MN\, 55008
CATEGORIES:Texas Hold 'Em
END:VEVENT
BEGIN:VEVENT
DTSTART;TZID=America/Chicago:20250605T190000
DTEND;TZID=America/Chicago:20250605T190000
DTSTAMP:20260422T194952
CREATED:20250610T034919Z
LAST-MODIFIED:20250610T034919Z
UID:10000171-1749150000-1749150000@bradfordpubngrub.com
SUMMARY:Texas Hold Em
DESCRIPTION:
URL:https://bradfordpubngrub.com/event/texas-hold-em-4/
LOCATION:Bradford Pub & Grub\, Cambridge\, MN\, 55008
CATEGORIES:Texas Hold 'Em
END:VEVENT
BEGIN:VEVENT
DTSTART;TZID=America/Chicago:20250610T180000
DTEND;TZID=America/Chicago:20250610T180000
DTSTAMP:20260422T194952
CREATED:20241230T175114Z
LAST-MODIFIED:20250610T035952Z
UID:10000108-1749578400-1749578400@bradfordpubngrub.com
SUMMARY:Meat Raffle
DESCRIPTION:
URL:https://bradfordpubngrub.com/event/meat-raffle-january-28/2025-06-10/
LOCATION:Bradford Pub & Grub\, Cambridge\, MN\, 55008
CATEGORIES:Meat RAffle
END:VEVENT
BEGIN:VEVENT
DTSTART;TZID=America/Chicago:20250610T180000
DTEND;TZID=America/Chicago:20250610T180000
DTSTAMP:20260422T194952
CREATED:20250610T035650Z
LAST-MODIFIED:20250610T035650Z
UID:10000177-1749578400-1749578400@bradfordpubngrub.com
SUMMARY:Meat Raffle
DESCRIPTION:
URL:https://bradfordpubngrub.com/event/meat-raffle/
LOCATION:Bradford Pub & Grub\, Cambridge\, MN\, 55008
CATEGORIES:Meat RAffle
END:VEVENT
BEGIN:VEVENT
DTSTART;TZID=America/Chicago:20250610T190000
DTEND;TZID=America/Chicago:20250610T190000
DTSTAMP:20260422T194952
CREATED:20241230T165320Z
LAST-MODIFIED:20241231T191347Z
UID:10000087-1749582000-1749582000@bradfordpubngrub.com
SUMMARY:Bingo
DESCRIPTION:
URL:https://bradfordpubngrub.com/event/bingo-january-28/2025-06-10/
LOCATION:Bradford Pub & Grub\, Cambridge\, MN\, 55008
CATEGORIES:Bingo
END:VEVENT
BEGIN:VEVENT
DTSTART;TZID=America/Chicago:20250610T190000
DTEND;TZID=America/Chicago:20250610T190000
DTSTAMP:20260422T194952
CREATED:20250610T034022Z
LAST-MODIFIED:20250610T034022Z
UID:10000166-1749582000-1749582000@bradfordpubngrub.com
SUMMARY:Bingo
DESCRIPTION:
URL:https://bradfordpubngrub.com/event/bingo/
LOCATION:Bradford Pub & Grub\, Cambridge\, MN\, 55008
CATEGORIES:Bingo
END:VEVENT
BEGIN:VEVENT
DTSTART;TZID=America/Chicago:20250612T180000
DTEND;TZID=America/Chicago:20250612T180000
DTSTAMP:20260422T194952
CREATED:20241230T180055Z
LAST-MODIFIED:20241231T192005Z
UID:10000129-1749751200-1749751200@bradfordpubngrub.com
SUMMARY:Meat Raffle
DESCRIPTION:
URL:https://bradfordpubngrub.com/event/meat-raffle-january-30/2025-06-12/
LOCATION:Bradford Pub & Grub\, Cambridge\, MN\, 55008
CATEGORIES:Meat RAffle
END:VEVENT
BEGIN:VEVENT
DTSTART;TZID=America/Chicago:20250612T183000
DTEND;TZID=America/Chicago:20250612T183000
DTSTAMP:20260422T194952
CREATED:20241230T165802Z
LAST-MODIFIED:20241231T192202Z
UID:10000150-1749753000-1749753000@bradfordpubngrub.com
SUMMARY:Horse Racing
DESCRIPTION:
URL:https://bradfordpubngrub.com/event/horse-racing-january-30/2025-06-12/
LOCATION:Bradford Pub & Grub\, Cambridge\, MN\, 55008
CATEGORIES:Horse Racing
END:VEVENT
BEGIN:VEVENT
DTSTART;TZID=America/Chicago:20250612T183000
DTEND;TZID=America/Chicago:20250612T183000
DTSTAMP:20260422T194952
CREATED:20250610T035213Z
LAST-MODIFIED:20250610T035213Z
UID:10000173-1749753000-1749753000@bradfordpubngrub.com
SUMMARY:Horse Racing
DESCRIPTION:
URL:https://bradfordpubngrub.com/event/horse-racing/
LOCATION:Bradford Pub & Grub\, Cambridge\, MN\, 55008
CATEGORIES:Horse Racing
END:VEVENT
BEGIN:VEVENT
DTSTART;TZID=America/Chicago:20250612T190000
DTEND;TZID=America/Chicago:20250612T190000
DTSTAMP:20260422T194952
CREATED:20250405T023153Z
LAST-MODIFIED:20250610T035443Z
UID:10000163-1749754800-1749754800@bradfordpubngrub.com
SUMMARY:Texas Hold 'Em
DESCRIPTION:
URL:https://bradfordpubngrub.com/event/texas-hold-em-january-19-2/2025-06-12/
LOCATION:Bradford Pub & Grub\, Cambridge\, MN\, 55008
CATEGORIES:Texas Hold 'Em
END:VEVENT
BEGIN:VEVENT
DTSTART;TZID=America/Chicago:20250612T190000
DTEND;TZID=America/Chicago:20250612T190000
DTSTAMP:20260422T194952
CREATED:20250610T034222Z
LAST-MODIFIED:20250610T034704Z
UID:10000168-1749754800-1749754800@bradfordpubngrub.com
SUMMARY:Texas Hold Em
DESCRIPTION:
URL:https://bradfordpubngrub.com/event/texas-hold-em/
LOCATION:Bradford Pub & Grub\, Cambridge\, MN\, 55008
CATEGORIES:Texas Hold 'Em
END:VEVENT
BEGIN:VEVENT
DTSTART;VALUE=DATE:20250615
DTEND;VALUE=DATE:20250616
DTSTAMP:20260422T194952
CREATED:20250611T124808Z
LAST-MODIFIED:20250611T124808Z
UID:10000189-1749945600-1750031999@bradfordpubngrub.com
SUMMARY:Fathers Day
DESCRIPTION:
URL:https://bradfordpubngrub.com/event/fathers-day/
LOCATION:Bradford Pub & Grub\, Cambridge\, MN\, 55008
CATEGORIES:Daily Specials
END:VEVENT
BEGIN:VEVENT
DTSTART;TZID=America/Chicago:20250617T180000
DTEND;TZID=America/Chicago:20250617T180000
DTSTAMP:20260422T194952
CREATED:20241230T175114Z
LAST-MODIFIED:20250610T035952Z
UID:10000109-1750183200-1750183200@bradfordpubngrub.com
SUMMARY:Meat Raffle
DESCRIPTION:
URL:https://bradfordpubngrub.com/event/meat-raffle-january-28/2025-06-17/
LOCATION:Bradford Pub & Grub\, Cambridge\, MN\, 55008
CATEGORIES:Meat RAffle
END:VEVENT
BEGIN:VEVENT
DTSTART;TZID=America/Chicago:20250617T180000
DTEND;TZID=America/Chicago:20250617T180000
DTSTAMP:20260422T194952
CREATED:20250610T035721Z
LAST-MODIFIED:20250610T035721Z
UID:10000178-1750183200-1750183200@bradfordpubngrub.com
SUMMARY:Meat Raffle
DESCRIPTION:
URL:https://bradfordpubngrub.com/event/meat-raffle-2/
LOCATION:Bradford Pub & Grub\, Cambridge\, MN\, 55008
CATEGORIES:Meat RAffle
END:VEVENT
BEGIN:VEVENT
DTSTART;TZID=America/Chicago:20250617T190000
DTEND;TZID=America/Chicago:20250617T190000
DTSTAMP:20260422T194952
CREATED:20241230T165320Z
LAST-MODIFIED:20241231T191347Z
UID:10000088-1750186800-1750186800@bradfordpubngrub.com
SUMMARY:Bingo
DESCRIPTION:
URL:https://bradfordpubngrub.com/event/bingo-january-28/2025-06-17/
LOCATION:Bradford Pub & Grub\, Cambridge\, MN\, 55008
CATEGORIES:Bingo
END:VEVENT
BEGIN:VEVENT
DTSTART;TZID=America/Chicago:20250617T190000
DTEND;TZID=America/Chicago:20250617T190000
DTSTAMP:20260422T194952
CREATED:20250610T034124Z
LAST-MODIFIED:20250610T034124Z
UID:10000167-1750186800-1750186800@bradfordpubngrub.com
SUMMARY:Bingo
DESCRIPTION:
URL:https://bradfordpubngrub.com/event/bingo-2/
LOCATION:Bradford Pub & Grub\, Cambridge\, MN\, 55008
CATEGORIES:Bingo
END:VEVENT
BEGIN:VEVENT
DTSTART;TZID=America/Chicago:20250619T180000
DTEND;TZID=America/Chicago:20250619T180000
DTSTAMP:20260422T194952
CREATED:20241230T180055Z
LAST-MODIFIED:20241231T192005Z
UID:10000130-1750356000-1750356000@bradfordpubngrub.com
SUMMARY:Meat Raffle
DESCRIPTION:
URL:https://bradfordpubngrub.com/event/meat-raffle-january-30/2025-06-19/
LOCATION:Bradford Pub & Grub\, Cambridge\, MN\, 55008
CATEGORIES:Meat RAffle
END:VEVENT
BEGIN:VEVENT
DTSTART;TZID=America/Chicago:20250619T183000
DTEND;TZID=America/Chicago:20250619T183000
DTSTAMP:20260422T194952
CREATED:20241230T165802Z
LAST-MODIFIED:20241231T192202Z
UID:10000151-1750357800-1750357800@bradfordpubngrub.com
SUMMARY:Horse Racing
DESCRIPTION:
URL:https://bradfordpubngrub.com/event/horse-racing-january-30/2025-06-19/
LOCATION:Bradford Pub & Grub\, Cambridge\, MN\, 55008
CATEGORIES:Horse Racing
END:VEVENT
BEGIN:VEVENT
DTSTART;TZID=America/Chicago:20250619T183000
DTEND;TZID=America/Chicago:20250619T183000
DTSTAMP:20260422T194952
CREATED:20250610T035257Z
LAST-MODIFIED:20250610T035257Z
UID:10000174-1750357800-1750357800@bradfordpubngrub.com
SUMMARY:Horse Racing
DESCRIPTION:
URL:https://bradfordpubngrub.com/event/horse-racing-2/
LOCATION:Bradford Pub & Grub\, Cambridge\, MN\, 55008
CATEGORIES:Horse Racing
END:VEVENT
BEGIN:VEVENT
DTSTART;TZID=America/Chicago:20250619T190000
DTEND;TZID=America/Chicago:20250619T190000
DTSTAMP:20260422T194952
CREATED:20250405T023153Z
LAST-MODIFIED:20250610T035443Z
UID:10000164-1750359600-1750359600@bradfordpubngrub.com
SUMMARY:Texas Hold 'Em
DESCRIPTION:
URL:https://bradfordpubngrub.com/event/texas-hold-em-january-19-2/2025-06-19/
LOCATION:Bradford Pub & Grub\, Cambridge\, MN\, 55008
CATEGORIES:Texas Hold 'Em
END:VEVENT
BEGIN:VEVENT
DTSTART;TZID=America/Chicago:20250619T190000
DTEND;TZID=America/Chicago:20250619T190000
DTSTAMP:20260422T194952
CREATED:20250610T034307Z
LAST-MODIFIED:20250610T034738Z
UID:10000169-1750359600-1750359600@bradfordpubngrub.com
SUMMARY:Texas Hold Em
DESCRIPTION:
URL:https://bradfordpubngrub.com/event/texas-hold-em-2/
LOCATION:Bradford Pub & Grub\, Cambridge\, MN\, 55008
CATEGORIES:Texas Hold 'Em
END:VEVENT
BEGIN:VEVENT
DTSTART;TZID=America/Chicago:20250621T120000
DTEND;TZID=America/Chicago:20250621T150000
DTSTAMP:20260422T194952
CREATED:20250611T124626Z
LAST-MODIFIED:20250611T124626Z
UID:10000188-1750507200-1750518000@bradfordpubngrub.com
SUMMARY:Lil Evil Performance Bike Show
DESCRIPTION:
URL:https://bradfordpubngrub.com/event/lil-evil-performance-bike-show/
LOCATION:Bradford Pub & Grub\, Cambridge\, MN\, 55008
END:VEVENT
BEGIN:VEVENT
DTSTART;TZID=America/Chicago:20250624T180000
DTEND;TZID=America/Chicago:20250624T180000
DTSTAMP:20260422T194952
CREATED:20241230T175114Z
LAST-MODIFIED:20250610T035952Z
UID:10000110-1750788000-1750788000@bradfordpubngrub.com
SUMMARY:Meat Raffle
DESCRIPTION:
URL:https://bradfordpubngrub.com/event/meat-raffle-january-28/2025-06-24/
LOCATION:Bradford Pub & Grub\, Cambridge\, MN\, 55008
CATEGORIES:Meat RAffle
END:VEVENT
BEGIN:VEVENT
DTSTART;TZID=America/Chicago:20250624T180000
DTEND;TZID=America/Chicago:20250624T180000
DTSTAMP:20260422T194952
CREATED:20250610T035804Z
LAST-MODIFIED:20250610T035804Z
UID:10000179-1750788000-1750788000@bradfordpubngrub.com
SUMMARY:Meat Raffle
DESCRIPTION:
URL:https://bradfordpubngrub.com/event/meat-raffle-3/
LOCATION:Bradford Pub & Grub\, Cambridge\, MN\, 55008
CATEGORIES:Meat RAffle
END:VEVENT
BEGIN:VEVENT
DTSTART;TZID=America/Chicago:20250624T190000
DTEND;TZID=America/Chicago:20250624T190000
DTSTAMP:20260422T194952
CREATED:20241230T165320Z
LAST-MODIFIED:20241231T191347Z
UID:10000089-1750791600-1750791600@bradfordpubngrub.com
SUMMARY:Bingo
DESCRIPTION:
URL:https://bradfordpubngrub.com/event/bingo-january-28/2025-06-24/
LOCATION:Bradford Pub & Grub\, Cambridge\, MN\, 55008
CATEGORIES:Bingo
END:VEVENT
END:VCALENDAR