BEGIN:VCALENDAR
VERSION:2.0
PRODID:-//Bradford Pub n Grub - ECPv6.15.20//NONSGML v1.0//EN
CALSCALE:GREGORIAN
METHOD:PUBLISH
X-WR-CALNAME:Bradford Pub n Grub
X-ORIGINAL-URL:https://bradfordpubngrub.com
X-WR-CALDESC:Events for Bradford Pub n Grub
REFRESH-INTERVAL;VALUE=DURATION:PT1H
X-Robots-Tag:noindex
X-PUBLISHED-TTL:PT1H
BEGIN:VTIMEZONE
TZID:America/Chicago
BEGIN:DAYLIGHT
TZOFFSETFROM:-0600
TZOFFSETTO:-0500
TZNAME:CDT
DTSTART:20230312T080000
END:DAYLIGHT
BEGIN:STANDARD
TZOFFSETFROM:-0500
TZOFFSETTO:-0600
TZNAME:CST
DTSTART:20231105T070000
END:STANDARD
BEGIN:DAYLIGHT
TZOFFSETFROM:-0600
TZOFFSETTO:-0500
TZNAME:CDT
DTSTART:20240310T080000
END:DAYLIGHT
BEGIN:STANDARD
TZOFFSETFROM:-0500
TZOFFSETTO:-0600
TZNAME:CST
DTSTART:20241103T070000
END:STANDARD
BEGIN:DAYLIGHT
TZOFFSETFROM:-0600
TZOFFSETTO:-0500
TZNAME:CDT
DTSTART:20250309T080000
END:DAYLIGHT
BEGIN:STANDARD
TZOFFSETFROM:-0500
TZOFFSETTO:-0600
TZNAME:CST
DTSTART:20251102T070000
END:STANDARD
END:VTIMEZONE
BEGIN:VEVENT
DTSTART;TZID=America/Chicago:20241201T120000
DTEND;TZID=America/Chicago:20241201T120000
DTSTAMP:20260419T152920
CREATED:20241024T005600Z
LAST-MODIFIED:20241024T005600Z
UID:10000016-1733054400-1733054400@bradfordpubngrub.com
SUMMARY:Vikings Football
DESCRIPTION:
URL:https://bradfordpubngrub.com/event/vikings-football-december-1/
LOCATION:Bradford Pub & Grub\, Cambridge\, MN\, 55008
CATEGORIES:Vikings Football
END:VEVENT
BEGIN:VEVENT
DTSTART;TZID=America/Chicago:20241208T120000
DTEND;TZID=America/Chicago:20241208T120000
DTSTAMP:20260419T152920
CREATED:20241113T190954Z
LAST-MODIFIED:20241113T190954Z
UID:10000021-1733659200-1733659200@bradfordpubngrub.com
SUMMARY:Vikings Football
DESCRIPTION:
URL:https://bradfordpubngrub.com/event/vikings-football-2/
LOCATION:Bradford Pub & Grub\, Cambridge\, MN\, 55008
CATEGORIES:Vikings Football
END:VEVENT
BEGIN:VEVENT
DTSTART;TZID=America/Chicago:20241216T190000
DTEND;TZID=America/Chicago:20241216T190000
DTSTAMP:20260419T152920
CREATED:20241113T191118Z
LAST-MODIFIED:20241113T191118Z
UID:10000022-1734375600-1734375600@bradfordpubngrub.com
SUMMARY:Vikings Football
DESCRIPTION:
URL:https://bradfordpubngrub.com/event/vikings-football-3/
LOCATION:Bradford Pub & Grub\, Cambridge\, MN\, 55008
CATEGORIES:Vikings Football
END:VEVENT
BEGIN:VEVENT
DTSTART;TZID=America/Chicago:20241222T150500
DTEND;TZID=America/Chicago:20241222T150500
DTSTAMP:20260419T152920
CREATED:20241113T191252Z
LAST-MODIFIED:20241113T191252Z
UID:10000023-1734879900-1734879900@bradfordpubngrub.com
SUMMARY:Vikings Football
DESCRIPTION:
URL:https://bradfordpubngrub.com/event/vikings-football-4/
LOCATION:Bradford Pub & Grub\, Cambridge\, MN\, 55008
CATEGORIES:Vikings Football
END:VEVENT
BEGIN:VEVENT
DTSTART;TZID=America/Chicago:20241229T150500
DTEND;TZID=America/Chicago:20241229T150500
DTSTAMP:20260419T152920
CREATED:20241230T164035Z
LAST-MODIFIED:20241230T164035Z
UID:10000030-1735484700-1735484700@bradfordpubngrub.com
SUMMARY:Vikings Football
DESCRIPTION:
URL:https://bradfordpubngrub.com/event/vikings-football-december-29/
LOCATION:Bradford Pub & Grub\, Cambridge\, MN\, 55008
CATEGORIES:Vikings Football
END:VEVENT
END:VCALENDAR